BEGIN:VCALENDAR
VERSION:2.0
PRODID:-//Southern Oaks Country Club - ECPv6.15.20//NONSGML v1.0//EN
CALSCALE:GREGORIAN
METHOD:PUBLISH
X-ORIGINAL-URL:http://southernoakscc.com
X-WR-CALDESC:Events for Southern Oaks Country Club
REFRESH-INTERVAL;VALUE=DURATION:PT1H
X-Robots-Tag:noindex
X-PUBLISHED-TTL:PT1H
BEGIN:VTIMEZONE
TZID:America/Los_Angeles
BEGIN:DAYLIGHT
TZOFFSETFROM:-0800
TZOFFSETTO:-0700
TZNAME:PDT
DTSTART:20250309T100000
END:DAYLIGHT
BEGIN:STANDARD
TZOFFSETFROM:-0700
TZOFFSETTO:-0800
TZNAME:PST
DTSTART:20251102T090000
END:STANDARD
BEGIN:DAYLIGHT
TZOFFSETFROM:-0800
TZOFFSETTO:-0700
TZNAME:PDT
DTSTART:20260308T100000
END:DAYLIGHT
BEGIN:STANDARD
TZOFFSETFROM:-0700
TZOFFSETTO:-0800
TZNAME:PST
DTSTART:20261101T090000
END:STANDARD
BEGIN:DAYLIGHT
TZOFFSETFROM:-0800
TZOFFSETTO:-0700
TZNAME:PDT
DTSTART:20270314T100000
END:DAYLIGHT
BEGIN:STANDARD
TZOFFSETFROM:-0700
TZOFFSETTO:-0800
TZNAME:PST
DTSTART:20271107T090000
END:STANDARD
END:VTIMEZONE
BEGIN:VEVENT
DTSTART;TZID=America/Los_Angeles:20260503T103000
DTEND;TZID=America/Los_Angeles:20260503T133000
DTSTAMP:20260423T081137
CREATED:20260421T180719Z
LAST-MODIFIED:20260421T180719Z
UID:50349-1777804200-1777815000@southernoakscc.com
SUMMARY:Sunday Brunch Buffet
DESCRIPTION:Join us for Sunday Brunch from 10:30 am to 1:30pm\, Every Sunday! \nCall today to make a reservation (337)893.5203
URL:http://southernoakscc.com/event/sunday-brunch-buffet-2/
LOCATION:Southern Oaks Country Club\, 10924 VETERANS MEMORIAL DRIVE\, Abbeville\, Louisiana\, 70510
END:VEVENT
END:VCALENDAR